BEGIN:VCALENDAR
VERSION:2.0
PRODID:-//eventon.com NONSGML v1.0//EN
CALSCALE:GREGORIAN
METHOD:PUBLISH
BEGIN:VEVENT
UID:69e73c5d3c86a
DTSTAMP:20260421T085909Z
DTSTART:20221216
DTEND:20221217
LOCATION:
SUMMARY:Videopremiere von Feel Inc. "Einmal"
DESCRIPTION:Videopremiere von Feel Inc. &#8222;Einmal&#8220; Produktion von
  Gefühlen. Hoffnung. Frust. Liebe. Feel inc. ist ein neuartiges alternati
 ves Hip Hop Duo\,  das aus Leidenschaft zur Musik zusammenfand. In den Song
 s werden aus selbst produzierten alternativen Hip Hop Beats und selbst eing
 espielten Instrumenten die verschiedensten Einflüsse aus diversen Genres 
 wie Hip Hop\, [..]\nhttps://www.medienkulturhaus.at/events/videopremiere-vo
 n-feel-inc-einmal/
URL:https://www.medienkulturhaus.at/events/videopremiere-von-feel-inc-einmal/
END:VEVENT
END:VCALENDAR