BEGIN:VCALENDAR
VERSION:2.0
PRODID:-//eventon.com NONSGML v1.0//EN
CALSCALE:GREGORIAN
METHOD:PUBLISH
BEGIN:VEVENT
UID:69e73c4f5879a
DTSTAMP:20260421T085855Z
DTSTART:20221207
DTEND:20221208
LOCATION:
SUMMARY:Vernissage Stefan Glas: BESTIEN BESÄNFTIGEN
DESCRIPTION:Eröffnung: Mittwoch\,  7. Dezember 2022 / 19 Uhr GALERIE DER 
 STADT WELS Der junge Künstler Stefan Glas (er lebt und arbeitet in Mattig
 hofen) malt mit großer Intensität\,  Leidenschaft und Wucht. Er erschaff
 t in seinen Bildern unwirkliche Wesen\,  stilisierte Tiere\,  seltsame Held
 en und fabelhafte Monster und das in farbintensiver Darstellung. Sein[..]\n
 https://www.medienkulturhaus.at/events/vernissage-stefan-glas-bestien-besae
 nftigen/
URL:https://www.medienkulturhaus.at/events/vernissage-stefan-glas-bestien-besaenftigen/
END:VEVENT
END:VCALENDAR