BEGIN:VCALENDAR
VERSION:2.0
PRODID:-//eventon.com NONSGML v1.0//EN
CALSCALE:GREGORIAN
METHOD:PUBLISH
BEGIN:VEVENT
UID:69e73c5d783d0
DTSTAMP:20260421T085909Z
DTSTART:20221124
DTEND:20221125
LOCATION:
SUMMARY:„Immer schön am Boden bleiben … oder wie man im Sport sagt „den Ball flach halten.“
DESCRIPTION:Es erwartet uns ein Gespräch von zwei Menschen\,  die versuche
 n trotz durch ihrer beruflichen\,  öffentlichen Präsenz nicht die Bodenha
 ftung zu verlieren: Heinz Hörhager ist Radiomoderator beim ORF OÖ (Sendun
 g „Bei uns dahoam“) und als Sportreporter unterwegs. Er selbst nutzt je
 de freie Minute um in der Natur zu sein\,  meist in[..]\nhttps://www.medien
 kulturhaus.at/events/immer-schoen-am-boden-bleiben-oder-wie-man-im-sport-sa
 gt-den-ball-flach-halten/
URL:https://www.medienkulturhaus.at/events/immer-schoen-am-boden-bleiben-oder-wie-man-im-sport-sagt-den-ball-flach-halten/
END:VEVENT
END:VCALENDAR