BEGIN:VCALENDAR
VERSION:2.0
PRODID:-//eventon.com NONSGML v1.0//EN
CALSCALE:GREGORIAN
METHOD:PUBLISH
BEGIN:VEVENT
UID:69e73cbcdd3f1
DTSTAMP:20260421T090044Z
DTSTART:20221209T180000Z
DTEND:20221209T210000Z
LOCATION:
SUMMARY:MKH Glitzerfest
DESCRIPTION:Punsch\,  DJs\,  Glitzerhof\,  Kinderprogramm und Abschlussessi
 ons des MKH-Chors. Unser beliebtes Fest mit Visuals und DJs im Hof\,  guten
  Getränken von extrazimmer AG und viel Weihnachtszauber! Ab 16 Uhr Postkar
 ten Malen für Kinder Mario Kart im Kino Ab 18 Uhr | Innenhof Extrazimmer 
 Punsch Dj Etienne Sangita (Rare Groove\,  Funk Soul\, [..]\nhttps://www.med
 ienkulturhaus.at/events/abschlusssession-chor-glitzerfreitag-mkh/
URL:https://www.medienkulturhaus.at/events/abschlusssession-chor-glitzerfreitag-mkh/
END:VEVENT
END:VCALENDAR