BEGIN:VCALENDAR
VERSION:2.0
PRODID:-//eventon.com NONSGML v1.0//EN
CALSCALE:GREGORIAN
METHOD:PUBLISH
BEGIN:VEVENT
UID:69e73cc5e9bbc
DTSTAMP:20260421T090053Z
DTSTART:20221203T140000Z
DTEND:20221203T170000Z
LOCATION:
SUMMARY:SAMSTAGSAKADEMIE MALEREI
DESCRIPTION:Angeregt durch die Bilderwelt des jungen Malers Stefan Glas (Au
 sstellungseröffnung 7.12.\,  19 Uhr!)\,  in der fabelhafte Tierwesen auf s
 eltsame Helden in farbkräftigen Landschaften treffen\,  Füchse chillen un
 d Panther das Sommergefühl suchen\,  werden wir in die eigene surreale Wel
 t und Farben eintauchen! Es wird ein Erlebnis!  Workshop Galerie der Stad
 t Wels\,  1.[..]\nhttps://www.medienkulturhaus.at/events/samstagsakademie-m
 alerei-4/
URL:https://www.medienkulturhaus.at/events/samstagsakademie-malerei-4/
END:VEVENT
END:VCALENDAR