BEGIN:VCALENDAR
VERSION:2.0
PRODID:-//eventon.com NONSGML v1.0//EN
CALSCALE:GREGORIAN
METHOD:PUBLISH
BEGIN:VEVENT
UID:69e73d1cd7072
DTSTAMP:20260421T090220Z
DTSTART:20220909T150000Z
DTEND:20220909T190000Z
LOCATION:
SUMMARY:SOMMERFEST ZAFFRAN mit Nimesh Chocolate
DESCRIPTION:Unser liebster Inder lädt zu einem kleinen Fest. Es gibt ausge
 zeichnetes indisches Essen und Live-Musik von Nimesh Chocolate aus Sri Lan
 ka. (Reggae)\nhttps://www.medienkulturhaus.at/events/sommerfest-zaffran-mit
 -nimesh-chocolate/
URL:https://www.medienkulturhaus.at/events/sommerfest-zaffran-mit-nimesh-chocolate/
END:VEVENT
END:VCALENDAR