BEGIN:VCALENDAR
VERSION:2.0
PRODID:-//eventon.com NONSGML v1.0//EN
CALSCALE:GREGORIAN
METHOD:PUBLISH
BEGIN:VEVENT
UID:69e50a40886cb
DTSTAMP:20260419T170048Z
DTSTART:20221027
DTEND:20221028
LOCATION:
SUMMARY:Behind the Scences „COMRADES“ - EINE UTOPISCHE SITCOM
DESCRIPTION:Behind the Scenes „COMRADES“ &#8211; EINE UTOPISCHE SITCOM 
 Der Linz lebende britische Künstler Sam Bunn produzierte in Kooperation m
 it dem Medien Kultur Haus eine utopische Sitcom. Hinter die Kulissen blicke
 n mit Regisseur und Drebuchautor Sam Bunn und Produzent Reini Zach nach dem
  Test Screening von COMRADES. In einer positiven\,  auf Fürsorge[..]\nht
 tps://www.medienkulturhaus.at/events/premiere-comrades-eine-utopische-sitco
 m/
URL:https://www.medienkulturhaus.at/events/premiere-comrades-eine-utopische-sitcom/
END:VEVENT
END:VCALENDAR