BEGIN:VCALENDAR
VERSION:2.0
PRODID:-//eventon.com NONSGML v1.0//EN
CALSCALE:GREGORIAN
METHOD:PUBLISH
BEGIN:VEVENT
UID:69e73c4f1dd7c
DTSTAMP:20260421T085855Z
DTSTART:20220911T070000Z
DTEND:20220911T093000Z
LOCATION:
SUMMARY:YOGABRUNCH
DESCRIPTION:Liebe Menschen\,  wir schmeißen uns in die Yogahosen und Kochs
 chürzen und möchten euch herzlich zum YOGABRUNCH einladen. Am Sonntag n
 ach einer entspannenden Yogastunde in der Galerie umgeben von Kunst gemütl
 ich brunchen &#8211; das wäre doch etwas! Unsere Yogalehrerin Steffi und D
 iätologin Karo sorgen mit einem Cocktail aus Bewegung und gesunden[..]\nht
 tps://www.medienkulturhaus.at/events/yogabrunch/
URL:https://www.medienkulturhaus.at/events/yogabrunch/
END:VEVENT
END:VCALENDAR