BEGIN:VCALENDAR
VERSION:2.0
PRODID:-//eventon.com NONSGML v1.0//EN
CALSCALE:GREGORIAN
METHOD:PUBLISH
BEGIN:VEVENT
UID:69e4ce74aebbd
DTSTAMP:20260419T124540Z
DTSTART:20221126T100000Z
DTEND:20221126T150000Z
LOCATION:
SUMMARY:Offene Keramikwerkstatt
DESCRIPTION:OFFENE KERAMIKWERKSTATT IM MKH. Von Materialkunde\,  Aufbereitu
 ng\,  Herstellung\,  Werkzeugkunde\,  Brenntechnik\,  Glasiertechnik\,  Tö
 pferscheibe bis hin zu diversen gestalterischen Möglichkeiten in der Keram
 ik gibt es allerhand zu entdecken (mit oder ohne Vorkenntnissen). Workshopl
 eitung: Josseline Engeler Kosten für 5 Stunden: 60 Euro.Stundenweise auch 
 möglich: je 12 Euro.Für Erwachsene ab 14 Jahren.Kinder bis 14[..]\nhttps:
 //www.medienkulturhaus.at/events/offene-keramikwerkstatt-26-11-22/
URL:https://www.medienkulturhaus.at/events/offene-keramikwerkstatt-26-11-22/
END:VEVENT
END:VCALENDAR