BEGIN:VCALENDAR
VERSION:2.0
PRODID:-//eventon.com NONSGML v1.0//EN
CALSCALE:GREGORIAN
METHOD:PUBLISH
BEGIN:VEVENT
UID:69e4ceb17d15b
DTSTAMP:20260419T124641Z
DTSTART:20220930T173000Z
DTEND:20220930T200000Z
LOCATION:
SUMMARY:POETRY SLAM #56
DESCRIPTION:56. Welser Poetry Slam hosted by PostScriptum. Moderne Literatu
 r live im MKH &#8211; gereimt\,  erzählerisch\,  nachdenklich\,  oder lust
 ig. Sehr lässig! Einlass: ab 19.00 Uhr Beginn: 19.30 Uhr Eintritt: 7 € n
 ormal / 6 € für 4youCard-Besitzer // nur Abendkassa!! Ein Poetry Slam is
 t ein performativer Dichter*innen-Wettstreit um die Gunst des[..]\nhttps://
 www.medienkulturhaus.at/events/poetry-slam-56/
URL:https://www.medienkulturhaus.at/events/poetry-slam-56/
END:VEVENT
END:VCALENDAR