BEGIN:VCALENDAR
VERSION:2.0
PRODID:-//eventon.com NONSGML v1.0//EN
CALSCALE:GREGORIAN
METHOD:PUBLISH
BEGIN:VEVENT
UID:69e73bee15043
DTSTAMP:20260421T085718Z
DTSTART:20221018T170000Z
DTEND:20221018T190000Z
LOCATION:
SUMMARY:Relaunch MKH - Chorprojekt
DESCRIPTION:Ein neuerlicher Aufruf: Alle die gerne singen &#8230; bitte kom
 men! Alle die gerne singen\,  aber denken sie können es nicht &#8230; unbe
 dingt kommen! Der Relaunch unseres Chor-Projekts mit Chorleiter Richard Gri
 esfelder. Gemeinsam groovige Songs einstudieren\,  diesmal auch zum MKH-Jah
 resschwerpunkt Thema &#8222;Weniger ist mehr&#8220;. Wir haben einen Profi-
 Chorleiter (Richard Griesfelder) engagiert\, [..]\nhttps://www.medienkultur
 haus.at/events/relaunch-mkh-chorprojekt-2/
URL:https://www.medienkulturhaus.at/events/relaunch-mkh-chorprojekt-2/
END:VEVENT
END:VCALENDAR