BEGIN:VCALENDAR
VERSION:2.0
PRODID:-//eventon.com NONSGML v1.0//EN
CALSCALE:GREGORIAN
METHOD:PUBLISH
BEGIN:VEVENT
UID:69e73c2e0f7c1
DTSTAMP:20260421T085822Z
DTSTART:20220611T130000Z
DTEND:20220611T160000Z
LOCATION:
SUMMARY:Samstagsakademie "Aktzeichnen"
DESCRIPTION:Liebe Freund*innen  und Teilnehmer*innen unserer Samstagsakade
 mien und Workshops! Am Samstag\,  11. Juni\,  15 &#8211; 18 Uhr\,  treffen 
 wir uns zum letzten Termin unserer Samstagsakademie in diesem Semester! Wir
  werden wieder AKTZEICHNEN! Unser großes Jahresprojekt 2022 im Medien Kult
 ur Haus steht unter dem Thema WENIGER IST MEHR\,  dieses wollen wir auch i
 n[..]\nhttps://www.medienkulturhaus.at/events/samstagsakademie-aktzeichnen-
 2/
URL:https://www.medienkulturhaus.at/events/samstagsakademie-aktzeichnen-2/
END:VEVENT
END:VCALENDAR