BEGIN:VCALENDAR
VERSION:2.0
PRODID:-//eventon.com NONSGML v1.0//EN
CALSCALE:GREGORIAN
METHOD:PUBLISH
BEGIN:VEVENT
UID:69e4d0201414f
DTSTAMP:20260419T125248Z
DTSTART:20220507T130000Z
DTEND:20220507T160000Z
LOCATION:
SUMMARY:Samstagsakademie "Aktzeichnen"
DESCRIPTION:Liebe Freund*innenÂ  und Teilnehmer*innen unserer Samstagsakade
 mien und Workshops! Am Samstag\,  7.Mai\,  15 &#8211; 18 Uhr\,  treffen wir
  uns wieder zu unserer Samstagsakademie! AKTZEICHNEN Unser groÃŸes Jahrespr
 ojekt 2022 im Medien Kultur Haus steht unter dem Thema WENIGER IST MEHR\, Â
  dieses wollen wir auch in die Workshopinhalte einflieÃŸen lassen!Â Nachdem
  wir beim ersten Termin[..]\nhttps://www.medienkulturhaus.at/events/samstag
 sakademie-aktzeichnen/
URL:https://www.medienkulturhaus.at/events/samstagsakademie-aktzeichnen/
END:VEVENT
END:VCALENDAR