BEGIN:VCALENDAR
VERSION:2.0
PRODID:-//eventon.com NONSGML v1.0//EN
CALSCALE:GREGORIAN
METHOD:PUBLISH
BEGIN:VEVENT
UID:69e73cc6359d0
DTSTAMP:20260421T090054Z
DTSTART:20220625T193000Z
DTEND:20220625T203000Z
LOCATION:
SUMMARY:Kinowanderung in der Altstadt II
DESCRIPTION:Die Gebäude der Welser Altstadt als Kinoleinwand oder ein mob
 iles Freiluftkino. Ausgestattet mit Lautsprecher\,  Beamer\,  Laptop und St
 romaggregat werden verschiedenste Wände in der Innenstadt zu einem öffe
 ntlichen Kino für Fußgänger*innen. Die Besucher*innen können die gan
 ze Wanderung mitmachen oder bei den einzelnen Station einsteigen und zuscha
 uen. Es sind sechs Stationen geplant.[..]\nhttps://www.medienkulturhaus.at/
 events/kinowanderung-in-der-altstadt-copy/
URL:https://www.medienkulturhaus.at/events/kinowanderung-in-der-altstadt-copy/
END:VEVENT
END:VCALENDAR