BEGIN:VCALENDAR
VERSION:2.0
PRODID:-//eventon.com NONSGML v1.0//EN
CALSCALE:GREGORIAN
METHOD:PUBLISH
BEGIN:VEVENT
UID:69e76cf41a3f8
DTSTAMP:20260421T122628Z
DTSTART:20220624T193000Z
DTEND:20220624T203000Z
LOCATION:
SUMMARY:Kinowanderung in der Altstadt
DESCRIPTION:Die Gebäude der Welser Altstadt als Kinoleinwand oder ein mob
 iles Freiluftkino. Ausgestattet mit Lautsprecher\,  Beamer\,  Laptop und St
 romaggregat werden verschiedenste Wände in der Innenstadt zu einem öffe
 ntlichen Kino für Fußgänger*innen. Die Besucher*innen können die gan
 ze Wanderung mitmachen oder bei den einzelnen Station einsteigen und zuscha
 uen. Es sind sechs Stationen geplant.[..]\nhttps://www.medienkulturhaus.at/
 events/kinowanderung-in-der-altstadt/
URL:https://www.medienkulturhaus.at/events/kinowanderung-in-der-altstadt/
END:VEVENT
END:VCALENDAR