BEGIN:VCALENDAR
VERSION:2.0
PRODID:-//eventon.com NONSGML v1.0//EN
CALSCALE:GREGORIAN
METHOD:PUBLISH
BEGIN:VEVENT
UID:69e73cbca04d9
DTSTAMP:20260421T090044Z
DTSTART:20220511T170000Z
DTEND:20220511T190000Z
LOCATION:
SUMMARY:MAKS (SOULDJA ) Live Acoustic Session.
DESCRIPTION:Endlich wieder Livemusik\,  endlich wieder Besuch von Maks (Sou
 ldja)\,  mit seinem gemütlichen Acoustic Set. Bei Schönwetter wird das Ga
 nze im Rahmen der Gastgarteneröffnung im Innenhof stattfinden. Ansonsten f
 indet das Konzert Indoor statt. Das Extrazimmer rundet das Programm in gewo
 hnter Manier mit Drinks und Kleinigkeiten zum Essen ab.\nhttps://www.medien
 kulturhaus.at/events/maks-souldja-live-acoustic-session/
URL:https://www.medienkulturhaus.at/events/maks-souldja-live-acoustic-session/
END:VEVENT
END:VCALENDAR