BEGIN:VCALENDAR
VERSION:2.0
PRODID:-//eventon.com NONSGML v1.0//EN
CALSCALE:GREGORIAN
METHOD:PUBLISH
BEGIN:VEVENT
UID:69e73c773b00d
DTSTAMP:20260421T085935Z
DTSTART:20220512T173000Z
DTEND:20220512T200000Z
LOCATION:
SUMMARY:Kick Off – Projektstart „Weniger ist mehr“
DESCRIPTION:DO | 12.05.  Beginn: 19:30 Kick Off – Projektstart „Wenige
 r ist mehr“ Mit voller Freude stürzt sich das Medien Kultur Haus in das 
 heurige Jahresprojekt „Weniger ist mehr“. Ziel ist es\,  Reduktion und 
 Verzicht als Chance und Erleichterung zu begreifen. Besonders die Perspekti
 ven von Jugendlichen und jungen Erwachsenen als Hauptbetroffene[..]\nhttps:
 //www.medienkulturhaus.at/events/kick-off-projektstart-weniger-ist-mehr/
URL:https://www.medienkulturhaus.at/events/kick-off-projektstart-weniger-ist-mehr/
END:VEVENT
END:VCALENDAR