BEGIN:VCALENDAR
VERSION:2.0
PRODID:-//eventon.com NONSGML v1.0//EN
CALSCALE:GREGORIAN
METHOD:PUBLISH
BEGIN:VEVENT
UID:69e73bd8bc6e2
DTSTAMP:20260421T085656Z
DTSTART:20220425T170000Z
DTEND:20220425T190000Z
LOCATION:
SUMMARY:Infoabend über Schulvorstellungen\,  Workshops & Projektangebote.
DESCRIPTION:Programmkino\,  YOUKI &#8211; Internationales Jugend Medien Fes
 tival und Medien Kultur Haus laden herzlich zu einem Infoabend am Montag\
 ,  25. April\,  19 Uhr im Kinosaal 1 / Medien Kultur Haus / Pollheimerstr
 . 17\,  4600 Wels ein. Wir geben einen kurzen Überblick über die vielfä
 ltigen Möglichkeiten für Schulklassen &amp; Pädagog*innen (Schulvorstell
 ungen\,  Medienworkshops\,  Kooperation bei Film- &amp; Medienprojekten\, [
 ..]\nhttps://www.medienkulturhaus.at/events/infoabend-ueber-schulvorstellun
 gen-workshops-projektangebote/
URL:https://www.medienkulturhaus.at/events/infoabend-ueber-schulvorstellungen-workshops-projektangebote/
END:VEVENT
END:VCALENDAR