BEGIN:VCALENDAR
VERSION:2.0
PRODID:-//eventon.com NONSGML v1.0//EN
CALSCALE:GREGORIAN
METHOD:PUBLISH
BEGIN:VEVENT
UID:69e73c2dc6bb3
DTSTAMP:20260421T085821Z
DTSTART:20220324T183000Z
DTEND:20220324T210000Z
LOCATION:
SUMMARY:DER ERFINDER - GERHARD FÜRLINGER
DESCRIPTION:Nach mehrmaliger Verschienung (wegen dieser C Sache) ist es end
 lich soweit: Der Schwanenstädter Gerhard Fürlinger ist ein Erfinder. An
 lass für seine Konstruktionen sind meist sehr individuelle Bedarfsanalyse
 n. Was heißt das im Klartext: er wundert sich immer wieder\,  dass es die 
 Eine oder Andere Lösung nicht gibt und mit dieser Lücke[..]\nhttps://ww
 w.medienkulturhaus.at/events/der-erfinder-gerhard-fuerlinger/
URL:https://www.medienkulturhaus.at/events/der-erfinder-gerhard-fuerlinger/
END:VEVENT
END:VCALENDAR