BEGIN:VCALENDAR
VERSION:2.0
PRODID:-//eventon.com NONSGML v1.0//EN
CALSCALE:GREGORIAN
METHOD:PUBLISH
BEGIN:VEVENT
UID:69e73d2ac9c45
DTSTAMP:20260421T090234Z
DTSTART:20220331T070000Z
DTEND:20220331T150600Z
LOCATION:
SUMMARY:Yeah\,  Science!
DESCRIPTION:Schüler*innen produzieren Videoclips über naturwissenschaftli
 che Forschung aus Wels. Eine Kooperation von Fachhochschule OÖ Campus Wels
 \,  Welios Science Center &amp; Medien Kultur Haus Wels. Eine neues Format 
 aus dem Studio 17 im Medien Kultur Haus. Auf der Basis von Vorträgen über
  von Forscher*innen der FH Wels erarbeiten Schüler*innen und Studierende e
 ine[..]\nhttps://www.medienkulturhaus.at/events/yeah-science/
URL:https://www.medienkulturhaus.at/events/yeah-science/
END:VEVENT
END:VCALENDAR