BEGIN:VCALENDAR
VERSION:2.0
PRODID:-//eventon.com NONSGML v1.0//EN
CALSCALE:GREGORIAN
METHOD:PUBLISH
BEGIN:VEVENT
UID:69e99d815bd9e
DTSTAMP:20260423T041809Z
DTSTART:20211222T140000Z
DTEND:20211222T180000Z
LOCATION:
SUMMARY:OPEN STUDIO
DESCRIPTION:Einmal im Monat öffnet das Film- &amp; Fernsehstudio im Medien
  Kultur Haus für alle jungen Menschen ab 12 Jahren. Zur Verfügung stehen 
 professionelles Film-\,  Foto\,  Ton- und Lichtequipment und ein tolles Stu
 dio inklusive Green-Screen. Ihr könnt eure eigenen Ideen umsetzen oder mit
  anderen Menschen neue Ideen entwerfen. Unterstützung gibt es[..]\nhttps:/
 /www.medienkulturhaus.at/events/open-studio-3/
URL:https://www.medienkulturhaus.at/events/open-studio-3/
END:VEVENT
END:VCALENDAR