BEGIN:VCALENDAR
VERSION:2.0
PRODID:-//eventon.com NONSGML v1.0//EN
CALSCALE:GREGORIAN
METHOD:PUBLISH
BEGIN:VEVENT
UID:69eb3395499d5
DTSTAMP:20260424T091045Z
DTSTART:20210902T190000Z
DTEND:20210902T100000Z
LOCATION:
SUMMARY:BRAVÖHITS @MKH\,  YOUKI UND CINEMA NEXT
DESCRIPTION:Filmscreening BRAVÖHITS @MKH\,  YOUKI UND CINEMA NEXT bringen 
 die besten Musikvideos aus Österreich in den MKH-Innenhof. Anschließend p
 räsentiert das YOUKI-Team ihre Lieblingshits. &nbsp; Wo: Im Hof\nhttps://w
 ww.medienkulturhaus.at/events/bravoehits-mkh-youki-und-cinema-next/
URL:https://www.medienkulturhaus.at/events/bravoehits-mkh-youki-und-cinema-next/
END:VEVENT
END:VCALENDAR