BEGIN:VCALENDAR
VERSION:2.0
PRODID:-//eventon.com NONSGML v1.0//EN
CALSCALE:GREGORIAN
METHOD:PUBLISH
BEGIN:VEVENT
UID:69e73e924c2ca
DTSTAMP:20260421T090834Z
DTSTART:20210318T173000Z
DTEND:20210318T183000Z
LOCATION:
SUMMARY:YA! Young Animation //  Online Pre-Festival LIVE!
DESCRIPTION:„YA!-Young Animation“ &#8211; das Festival für junge Kunst
 schaffende aus Figurentheater und Animationsfilm\,  die am Anfang ihrer ber
 uflichen Laufbahn oder im Studium stehen.  „YA!-Young Animation“ ist e
 in Genre-Meeting. Im Fokus steht das animierte „Etwas“: Der Zeichen- od
 er Pinselstrich\,  die Puppe\,  das Objekt. Spielfläche ist die Filmleinwa
 nd und ab 2022 auch die[..]\nhttps://www.medienkulturhaus.at/events/ya-youn
 g-animation-online-pre-festival-live/
URL:https://www.medienkulturhaus.at/events/ya-young-animation-online-pre-festival-live/
END:VEVENT
END:VCALENDAR