BEGIN:VCALENDAR
VERSION:2.0
PRODID:-//eventon.com NONSGML v1.0//EN
CALSCALE:GREGORIAN
METHOD:PUBLISH
BEGIN:VEVENT
UID:69e780023c3ce
DTSTAMP:20260421T134746Z
DTSTART:20260717T150000Z
DTEND:20260717T215900Z
LOCATION:
SUMMARY:MKH-Sommerfest
DESCRIPTION:tba\nhttps://www.medienkulturhaus.at/events/mkh-sommerfest-5/
URL:https://www.medienkulturhaus.at/events/mkh-sommerfest-5/
END:VEVENT
END:VCALENDAR