BEGIN:VCALENDAR
VERSION:2.0
PRODID:-//eventon.com NONSGML v1.0//EN
CALSCALE:GREGORIAN
METHOD:PUBLISH
BEGIN:VEVENT
UID:69e52b99dc4c9
DTSTAMP:20260419T192305Z
DTSTART:20260813T120000Z
DTEND:20260813T170000Z
LOCATION:
SUMMARY:Offene Textilwerkstatt
DESCRIPTION:Für alle\,  die aus ihrer Wohnung oder Atelier heraus wollen! 
 Hinein in eine Arbeitsumgebung\,  wo du unkompliziert nur für dich und dei
 n Projekt Zeit hast\,  wo wir uns gegenseitig Inspiration\,  Rat und Unters
 tützung bieten. Du kannst dir neugierig etwas Neues zutrauen\,  endlich et
 was Angefangenes abschließen oder einfach ohne Plan vorbeischauen[..]\nhtt
 ps://www.medienkulturhaus.at/events/offenetextilwerkstatt26/var/ri-8.l-L1
URL:https://www.medienkulturhaus.at/events/offenetextilwerkstatt26/var/ri-8.l-L1
END:VEVENT
END:VCALENDAR