BEGIN:VCALENDAR
VERSION:2.0
PRODID:-//eventon.com NONSGML v1.0//EN
CALSCALE:GREGORIAN
METHOD:PUBLISH
BEGIN:VEVENT
UID:69e52b4de475f
DTSTAMP:20260419T192149Z
DTSTART:20260425T173000Z
DTEND:20260425T190000Z
LOCATION:
SUMMARY:MKH-Sessions #1 mit „Killed by Youth“
DESCRIPTION:MKH-Sessions #1 mit „Killed by Youth“ Host: Robin Beer Sa. 
 25. April 2025 | 19.30 Uhr (Einlass: 19 Uhr) MKH Studios | Medien Kultur Ha
 us Eintritt:  5 Euro Killed by Youth Rock aus Wels. Amtlich\,  aber drecki
 g produziert. Mit Wumms\,  Energie und catchy Songs. Drazen Matuzovic (Gesa
 ng/Gitarre) Lukas Bräuer (Bass)[..]\nhttps://www.medienkulturhaus.at/event
 s/mkh-sessions-1-mit-killed-by-youth/
URL:https://www.medienkulturhaus.at/events/mkh-sessions-1-mit-killed-by-youth/
END:VEVENT
END:VCALENDAR