BEGIN:VCALENDAR
VERSION:2.0
PRODID:-//eventon.com NONSGML v1.0//EN
CALSCALE:GREGORIAN
METHOD:PUBLISH
BEGIN:VEVENT
UID:69e5c2cd03ac9
DTSTAMP:20260420T060813Z
DTSTART:20260907
DTEND:20260908
LOCATION:
SUMMARY:Kids Filmcamp II
DESCRIPTION:Hier steht das Experimentieren mit verschiedenen Filmtechniken 
 im Vordergrund. Wir tauchen spielerisch in die Welt hinter der Kamera ein. 
 So entstehen kurze Filme\,  die den Spaß am Entdecken und Gestalten in den
  Mittelpunkt rücken. Facts Anmeldung: ab 10. März 2026 Alter: 10 – 12 J
 ahre Termin: Mo 07. – Fr[..]\nhttps://www.medienkulturhaus.at/events/kids
 -filmcamp-ii/
URL:https://www.medienkulturhaus.at/events/kids-filmcamp-ii/
END:VEVENT
END:VCALENDAR