BEGIN:VCALENDAR
VERSION:2.0
PRODID:-//eventon.com NONSGML v1.0//EN
CALSCALE:GREGORIAN
METHOD:PUBLISH
BEGIN:VEVENT
UID:69e513a9063bd
DTSTAMP:20260419T174057Z
DTSTART:20251220T180000Z
DTEND:20251220T225900Z
LOCATION:
SUMMARY:Limberger-Kalender Release
DESCRIPTION:Bei der Präsentation des Limberger-Kalenders 2026 treffen star
 ke Frauen aus dem Almtal und der Linzer Kunstuni auf schwere Maschinen. Gem
 einsam posierten sie auf großen Baugeräten der Firma Limberger. Nun feier
 t das Projekt von Katrin Limberger ihren Abschluss. Es gibt Bier und Werkst
 attkalender solange der Vorrat reicht!\nhttps://www.medienkulturhaus.at/eve
 nts/limberger-kalender-release/
URL:https://www.medienkulturhaus.at/events/limberger-kalender-release/
END:VEVENT
END:VCALENDAR