BEGIN:VCALENDAR
VERSION:2.0
PRODID:-//eventon.com NONSGML v1.0//EN
CALSCALE:GREGORIAN
METHOD:PUBLISH
BEGIN:VEVENT
UID:69e9641b80bd4
DTSTAMP:20260423T001315Z
DTSTART:20251018T080000Z
DTEND:20251018T140000Z
LOCATION:
SUMMARY:Zine-Illustrationsworkshop
DESCRIPTION:Im Illustrationsworkshop entstehen die visuellen BeitrÃ¤ge fÃ¼r
  das heurige MKH Zine â€“ passend zu schon bestehenden Texten im Zine oder 
 ganz eigenen Ideen. Hier geht es darum\,  Inhalte visuell zu interpretieren
 \,  Stimmungen einzufangen und neue Ebenen der ErzÃ¤hlung zu erÃ¶ffnen. Der
  Workshop bietet Raum zum Ausprobieren\,  Skizzieren und Weiterentwickeln â
 €“[..]\nhttps://www.medienkulturhaus.at/events/zine-illustrationsworkshop/
URL:https://www.medienkulturhaus.at/events/zine-illustrationsworkshop/
END:VEVENT
END:VCALENDAR