BEGIN:VCALENDAR
VERSION:2.0
PRODID:-//eventon.com NONSGML v1.0//EN
CALSCALE:GREGORIAN
METHOD:PUBLISH
BEGIN:VEVENT
UID:69e52ae311daf
DTSTAMP:20260419T192003Z
DTSTART:20260522T173000Z
DTEND:20260522T200000Z
LOCATION:
SUMMARY:80. Welser Poetry Slam
DESCRIPTION:Der zweitälteste amtierende Poetry Slam Oberösterreichs geht 
 in eine neue Runde! Seid dabei\,  wenn im Medien Kultur Haus Wels wieder um
  den Sieg\,  die Liebe des Publikums und ewigwährenden Ruhm geslammt wird!
  Gemeinsam mit unseren lieben Partner:innen vom Verein Wortwerkler | wortwe
 rkler.at Was ist ein Poetry Slam? Ein Poetry Slam[..]\nhttps://www.medienku
 lturhaus.at/events/80-welser-poetry-slam/
URL:https://www.medienkulturhaus.at/events/80-welser-poetry-slam/
END:VEVENT
END:VCALENDAR