BEGIN:VCALENDAR
VERSION:2.0
PRODID:-//eventon.com NONSGML v1.0//EN
CALSCALE:GREGORIAN
METHOD:PUBLISH
BEGIN:VEVENT
UID:69e5e53f017d5
DTSTAMP:20260420T083511Z
DTSTART:20251024T160000Z
DTEND:20251024T215900Z
LOCATION:
SUMMARY:Open MKH 2025
DESCRIPTION:Wir laden euch ein! Kommt zu uns in die MKH-Studios! Beim OPEN 
 MKH öffnen wir die Türen für euch: Im Kino laufen die diesjährigen Kurz
 filme der MKH Filmschool auf der großen Leinwand\,  die Ausstellung „EDE
 N REIMAGINED“ von Sarah Kreuz ist zu sehen. Außerdem öffnen die Keramik
 werkstatt\,  das Musikstudio sowie das[..]\nhttps://www.medienkulturhaus.at
 /events/open-mkh-2025/
URL:https://www.medienkulturhaus.at/events/open-mkh-2025/
END:VEVENT
END:VCALENDAR