BEGIN:VCALENDAR
VERSION:2.0
PRODID:-//eventon.com NONSGML v1.0//EN
CALSCALE:GREGORIAN
METHOD:PUBLISH
BEGIN:VEVENT
UID:69ea759687627
DTSTAMP:20260423T194006Z
DTSTART:20250802T080000Z
DTEND:20250802T120000Z
LOCATION:
SUMMARY:Illustrationsworkshop
DESCRIPTION:Im Illustrationsworkshop entstehen die visuellen BeitrÃ¤ge fÃ¼r
  das heurige MKH Zine â€“ passend zu schon bestehenden Texten im Zine oder 
 ganz eigenen Ideen. Hier geht es darum\,  Inhalte visuell zu interpretieren
 \,  Stimmungen einzufangen und neue Ebenen der ErzÃ¤hlung zu erÃ¶ffnen. Der
  Workshop bietet Raum zum Ausprobieren\,  Skizzieren und Weiterentwickeln â
 €“[..]\nhttps://www.medienkulturhaus.at/events/illustrationsworkshop/
URL:https://www.medienkulturhaus.at/events/illustrationsworkshop/
END:VEVENT
END:VCALENDAR