BEGIN:VCALENDAR
VERSION:2.0
PRODID:-//eventon.com NONSGML v1.0//EN
CALSCALE:GREGORIAN
METHOD:PUBLISH
BEGIN:VEVENT
UID:69eb0ea8a2623
DTSTAMP:20260424T063312Z
DTSTART:20250711T170000Z
DTEND:20250711T180000Z
LOCATION:
SUMMARY:Vernissage: GoPublic #44 – Lisa Spielvogel
DESCRIPTION:Ich male spontan und intuitiv\,  meist mit Öl\,  um Unmittelba
 rkeit und Dringlichkeit einzufangen. Entscheidungen treffe ich aus dem Bauc
 h heraus\,  wenn sich etwas richtig anfühlt\,  wird es gemacht. Dadurch e
 ntstehen oft Dinge\,  die ich nie geplant hätte und die mich selbst über
 raschen. Es ist wie ein Dialog mit meinem Unterbewusstsein.[..]\nhttps://ww
 w.medienkulturhaus.at/events/vernissage-gopublic-44-lisa-spielvogel/
URL:https://www.medienkulturhaus.at/events/vernissage-gopublic-44-lisa-spielvogel/
END:VEVENT
END:VCALENDAR