BEGIN:VCALENDAR
VERSION:2.0
PRODID:-//eventon.com NONSGML v1.0//EN
CALSCALE:GREGORIAN
METHOD:PUBLISH
BEGIN:VEVENT
UID:69eadb40c0857
DTSTAMP:20260424T025352Z
DTSTART:20250925T173000Z
DTEND:20250925T190000Z
LOCATION:
SUMMARY:Lesung: Entromantisiert euch!
DESCRIPTION:Kaum etwas wird mehr romantisiert als romantische Liebe … Die
  Liebe – sie wird seit Jahrhunderten leidenschaftlich in Liedern besungen
 \,  in der Literatur wird ihr gelobhudelt\,  und in Filmen wird sie selbst 
 in ihren toxischsten Ausformungen glorifiziert. Wir haben die romantische L
 iebe trotz ihrer Volatilität und meist relativ kurzen Dauer[..]\nhttps://w
 ww.medienkulturhaus.at/events/lesung-entromantisiert-euch/
URL:https://www.medienkulturhaus.at/events/lesung-entromantisiert-euch/
END:VEVENT
END:VCALENDAR