BEGIN:VCALENDAR
VERSION:2.0
PRODID:-//eventon.com NONSGML v1.0//EN
CALSCALE:GREGORIAN
METHOD:PUBLISH
BEGIN:VEVENT
UID:69eb73b19dff6
DTSTAMP:20260424T134417Z
DTSTART:20250711T160000Z
DTEND:20250711T215900Z
LOCATION:
SUMMARY:MKH-Sommerfest
DESCRIPTION:Das X.tra.zimmer\,  Programmkino und MKH-Studios laden wieder z
 um Sommerfest. Mit Musik\,  feinen Speisen und Getränken lässt es sich im
  MKH-Hof gut aushalten. Programm: MKH OPEN 25 Switch Tennis Turnier\,  Live
 : Lillie Creatures. DJs: Samu\,  Momo\,  Hamza und  Gato. Termin: 11.07.\,
   ab 18 Uhr Location: bei Schönwetter im Hof Ab 18[..]\nhttps://www.medien
 kulturhaus.at/events/mkh-sommerfest-4/
URL:https://www.medienkulturhaus.at/events/mkh-sommerfest-4/
END:VEVENT
END:VCALENDAR