BEGIN:VCALENDAR
VERSION:2.0
PRODID:-//eventon.com NONSGML v1.0//EN
CALSCALE:GREGORIAN
METHOD:PUBLISH
BEGIN:VEVENT
UID:69eb5665cb4df
DTSTAMP:20260424T113917Z
DTSTART:20250905
DTEND:20250906
LOCATION:
SUMMARY:Keramik Spätsommerakademie
DESCRIPTION:SPÄTSOMMERAKADEMIE KERAMIK 4 Tage / 5. bis 7. September &amp; 
 ein vierter Termin / jeweils von 10 &#8211; 17 Uhr Wie jedes Jahr bietet Eu
 ch auch heuer wieder die SOMMERAKADEMIE KERAMIK IM MKH die Möglichkeit Euc
 h ganz nach eigenem Interesse richtig intensiv mit verschiedenen keramische
 n Techniken auseinanderzusetzen. In den ersten[..]\nhttps://www.medienkultu
 rhaus.at/events/keramik-spaetsommerakademie_25/
URL:https://www.medienkulturhaus.at/events/keramik-spaetsommerakademie_25/
END:VEVENT
END:VCALENDAR