BEGIN:VCALENDAR
VERSION:2.0
PRODID:-//eventon.com NONSGML v1.0//EN
CALSCALE:GREGORIAN
METHOD:PUBLISH
BEGIN:VEVENT
UID:69eb7855c7a54
DTSTAMP:20260424T140405Z
DTSTART:20250920T173000Z
DTEND:20250920T200000Z
LOCATION:
SUMMARY:Hauptwohnsitz Internet
DESCRIPTION:FABIAN NAVARRO und FRANCESCA HERR lieben das Internet. So sehr\
 ,  dass sie darin wohnen. In ihrem ersten gemeinsamen Duo Programm laden si
 e zu sich nach Hause ein\,  zu einer Hausparty mit dem Motto &#8222;CYBER&#
 8220;. Hauptwohnsitz Internet ist eine Show für alle\,  die zu viel im Int
 ernet sind\,  für jene\,  die[..]\nhttps://www.medienkulturhaus.at/events/
 hauptwohnsitz-internet/
URL:https://www.medienkulturhaus.at/events/hauptwohnsitz-internet/
END:VEVENT
END:VCALENDAR