BEGIN:VCALENDAR
VERSION:2.0
PRODID:-//eventon.com NONSGML v1.0//EN
CALSCALE:GREGORIAN
METHOD:PUBLISH
BEGIN:VEVENT
UID:69e9f9f38d1e9
DTSTAMP:20260423T105235Z
DTSTART:20250912T173000Z
DTEND:20250912T211800Z
LOCATION:
SUMMARY:PowerPoint Karaoke
DESCRIPTION:Unvorbereitet eine Präsentation halten – noch dazu ganz ohne
  Ahnung vom Thema? Was wie der Albtraum jeder Referationssituation klingt\,
   ist beim PowerPoint Karaoke Programm. Bei dieser Comedy-Impro-Show präse
 ntieren die Vortragenden Präsentationen\,  die ihnen völlig unbekannt sin
 d. Der Spaß ist garantiert! Moderiert wird der Abend vom Welser Stand Up C
 omedian Jonas[..]\nhttps://www.medienkulturhaus.at/events/powerpoint-karaok
 e-2509/
URL:https://www.medienkulturhaus.at/events/powerpoint-karaoke-2509/
END:VEVENT
END:VCALENDAR