BEGIN:VCALENDAR
VERSION:2.0
PRODID:-//eventon.com NONSGML v1.0//EN
CALSCALE:GREGORIAN
METHOD:PUBLISH
BEGIN:VEVENT
UID:69eb5cb49c071
DTSTAMP:20260424T120612Z
DTSTART:20250629T073000Z
DTEND:20250629T130000Z
LOCATION:
SUMMARY:1-TAGES-RETREAT
DESCRIPTION:9.30 &#8211; 11 Uhr Yoga &#8211; Morning Flow /// Soulfood Yoga
  mit Sara Trippolt (www.saratrippolt.at) Mit Saras dynamischem Morning Flow
  starten wir kraftvoll &amp; lebendig in den Tag. 11 &#8211; 13 Uhr Brunch 
 im Café Extrazimmer Reichhaltiger Brunch und Kaffee/Tee wird uns von Anna 
 im hauseigenen Café Extrazimmer im Erdgeschos[..]\nhttps://www.medienkultu
 rhaus.at/events/yogabrunchkeramik_juni/
URL:https://www.medienkulturhaus.at/events/yogabrunchkeramik_juni/
END:VEVENT
END:VCALENDAR