BEGIN:VCALENDAR
VERSION:2.0
PRODID:-//eventon.com NONSGML v1.0//EN
CALSCALE:GREGORIAN
METHOD:PUBLISH
BEGIN:VEVENT
UID:69e75432b2393
DTSTAMP:20260421T104050Z
DTSTART:20190523T130000Z
DTEND:20190523T150000Z
LOCATION:
SUMMARY:Handyworkshop für Senioren.
DESCRIPTION:Praxisorientierter und entspannter Umgang mit dem Mobiltelefon.
  Kosten: 23 Euro\,  Anmeldung: office@medienkulturhaus.at.\nhttps://www.med
 ienkulturhaus.at/events/handyworkshop-fuer-senioren/
URL:https://www.medienkulturhaus.at/events/handyworkshop-fuer-senioren/
END:VEVENT
END:VCALENDAR