BEGIN:VCALENDAR
VERSION:2.0
PRODID:-//eventon.com NONSGML v1.0//EN
CALSCALE:GREGORIAN
METHOD:PUBLISH
BEGIN:VEVENT
UID:69e6cd18100e0
DTSTAMP:20260421T010424Z
DTSTART:20240505T130000Z
DTEND:20240505T160000Z
LOCATION:
SUMMARY:Keramik – Anfänger:innen Special
DESCRIPTION:Modellierkurs künstlerisch Beim Anfänger:innen Special lernt 
 Ihr das Material und die Werkstatt kennen. Ihr gestaltet und modelliert fig
 ürlich oder abstrakt mit Hilfestellung durch die Kursleitung. Nach dem Tro
 cknen und dem 1. Brand könnt ihr Eure Werkstücke ca. 2 Wochen später ung
 lasiert abholen oder bei einem neuen Termin (Offene Keramikwerstatt\,  Glas
 ierwerkstatt)[..]\nhttps://www.medienkulturhaus.at/events/keramik-anfaenger
 innen-special-neu/var/ri-9.l-L1
URL:https://www.medienkulturhaus.at/events/keramik-anfaengerinnen-special-neu/var/ri-9.l-L1
END:VEVENT
END:VCALENDAR